BEGIN:VCALENDAR
VERSION:2.0
PRODID:-//Our Lady of Peace - ECPv5.16.2//NONSGML v1.0//EN
CALSCALE:GREGORIAN
METHOD:PUBLISH
X-WR-CALNAME:Our Lady of Peace
X-ORIGINAL-URL:https://www.ourladyofpeacegeneva.org
X-WR-CALDESC:Events for Our Lady of Peace
BEGIN:VTIMEZONE
TZID:America/New_York
BEGIN:DAYLIGHT
TZOFFSETFROM:-0500
TZOFFSETTO:-0400
TZNAME:EDT
DTSTART:20250309T070000
END:DAYLIGHT
BEGIN:STANDARD
TZOFFSETFROM:-0400
TZOFFSETTO:-0500
TZNAME:EST
DTSTART:20251102T060000
END:STANDARD
END:VTIMEZONE
BEGIN:VEVENT
DTSTART;VALUE=DATE:20250420
DTEND;VALUE=DATE:20250421
DTSTAMP:20260419T100944
CREATED:20250311T132359Z
LAST-MODIFIED:20250311T133904Z
UID:11118-1745107200-1745193599@www.ourladyofpeacegeneva.org
SUMMARY:Easter: 7:30am Mass SS\, 9:00am Mass SF\, 10:30am Mass SS\, 12:00Noon Mass Spanish SF\, 12:30pm Mass St. John's Chapel
DESCRIPTION:
URL:https://www.ourladyofpeacegeneva.org/event/easter-730am-mass-ss-900am-mass-sf-1030am-mass-ss-1200am-mass-spanish-sf-1230pm-mass-st-johns-chapel/
END:VEVENT
END:VCALENDAR